BEGIN:VCALENDAR
VERSION:2.0
PRODID:-//Bizz and Buzz - ECPv6.15.18//NONSGML v1.0//EN
CALSCALE:GREGORIAN
METHOD:PUBLISH
X-WR-CALNAME:Bizz and Buzz
X-ORIGINAL-URL:https://www.bizzandbuzz.alsace
X-WR-CALDESC:Évènements pour Bizz and Buzz
REFRESH-INTERVAL;VALUE=DURATION:PT1H
X-Robots-Tag:noindex
X-PUBLISHED-TTL:PT1H
BEGIN:VTIMEZONE
TZID:Europe/Paris
BEGIN:DAYLIGHT
TZOFFSETFROM:+0100
TZOFFSETTO:+0200
TZNAME:CEST
DTSTART:20250330T010000
END:DAYLIGHT
BEGIN:STANDARD
TZOFFSETFROM:+0200
TZOFFSETTO:+0100
TZNAME:CET
DTSTART:20251026T010000
END:STANDARD
BEGIN:DAYLIGHT
TZOFFSETFROM:+0100
TZOFFSETTO:+0200
TZNAME:CEST
DTSTART:20260329T010000
END:DAYLIGHT
BEGIN:STANDARD
TZOFFSETFROM:+0200
TZOFFSETTO:+0100
TZNAME:CET
DTSTART:20261025T010000
END:STANDARD
BEGIN:DAYLIGHT
TZOFFSETFROM:+0100
TZOFFSETTO:+0200
TZNAME:CEST
DTSTART:20270328T010000
END:DAYLIGHT
BEGIN:STANDARD
TZOFFSETFROM:+0200
TZOFFSETTO:+0100
TZNAME:CET
DTSTART:20271031T010000
END:STANDARD
END:VTIMEZONE
BEGIN:VEVENT
DTSTART;TZID=Europe/Paris:20260310T090000
DTEND;TZID=Europe/Paris:20260310T113000
DTSTAMP:20260421T142318
CREATED:20260121T104022Z
LAST-MODIFIED:20260304T160631Z
UID:2704-1773133200-1773142200@www.bizzandbuzz.alsace
SUMMARY:Facturation électronique : démêlez le vrai du flou en 2 heures chrono - Haguenau
DESCRIPTION:Obligations\, impacts concrets et feuille de route claire pour votre entreprise \n\n\n\n\n\n\n\nAnticipez la facturation électronique sans stress !\n  \nÀ partir du 1ᵉʳ septembre 2026\, toutes les entreprises devront être prêtes. Pas de jargon\, pas de théorie interminable : on vous explique simplement ce qui va changer\, comment vous y préparer concrètement\, et on déconstruit les idées reçues. \n  \nPendant cette session\, vous découvrirez : \n\nQui est vraiment concerné (autoentrepreneurs\, TPE\, PME\, activité B2B/B2C\, clients à l’étranger…)\nCe qui va changer dans votre organisation : outils\, processus\, ereporting\, réception obligatoire\, formats…\nLes impacts techniques traduits en langage compréhensible\nUne check-list claire pour savoir quoi faire\, quand\, et avec qui\nDes cas pratiques pour vous projeter immédiatement dans votre réalité d’entreprise\nLes avantages business induits : moins de tâches administratives\, une facturation plus rapide → un paiement plus rapide\, des échanges plus fiables\,\n\nL’Ordre des Experts-Comptables\, la CCI Alsace Eurométropole et la DGFiP unissent leurs forces pour lever toutes les zones d’ombre et répondre\, sans détour\, à vos questions.\nA l’issue de ces 2 heures vous aurez une vision limpide des obligations 2026–2027 et une feuille de route opérationnelle pour avancer sans stress.
URL:https://www.bizzandbuzz.alsace/event/facturation-electronique-demelez-le-vrai-du-flou-en-2-heures-chrono/
LOCATION:Le CAIRE – Haguenau\, 84\, route de Strasbourg\, Haguenau\, France
ATTACH;FMTTYPE=image/jpeg:https://www.bizzandbuzz.alsace/wp-content/uploads/2026/01/Agenda-Facturation-electronique-1.jpg
END:VEVENT
BEGIN:VEVENT
DTSTART;TZID=Europe/Paris:20260312T110000
DTEND;TZID=Europe/Paris:20260312T120000
DTSTAMP:20260421T142318
CREATED:20260304T160821Z
LAST-MODIFIED:20260304T160858Z
UID:2839-1773313200-1773316800@www.bizzandbuzz.alsace
SUMMARY:Renforcer la visibilité de son site web grâce au SEO - Niveau 2
DESCRIPTION:Développez une stratégie SEO avancée et exploitez l’IA pour améliorer durablement votre positionnement ! \n\n\n\n\n\n\n\nVisibilité & Stratégie\n  \nApprofondir sa maîtrise du référencement naturel permet de structurer une stratégie SEO plus performante et orientée résultats. L’objectif est d’améliorer durablement la visibilité du site dans les moteurs de recherche grâce à une approche méthodique\, mesurable et appuyée par des outils adaptés. \n  \n\nDéfinir une stratégie d’intégration des mots-clés cohérente\, en sélectionnant les requêtes prioritaires et en identifiant précisément où les positionner (titres\, balises\, structure éditoriale\, maillage interne) afin d’en maximiser l’impact.\nDéployer la stratégie SEO et en évaluer l’efficacité à l’aide d’indicateurs de performance pertinents (positionnement\, trafic organique\, taux de clic\, engagement)\, pour ajuster les actions de manière continue.\nExploiter l’intelligence artificielle pour structurer\, rédiger et optimiser des articles alignés avec l’intention de recherche des utilisateurs et les exigences des moteurs de recherche.\n\n  \nÀ l’issue du travail engagé\, la stratégie est clarifiée\, opérationnelle et orientée vers une progression mesurable de la visibilité et du positionnement du site. \n  \nLe webinaire sera animé par Michel Fagot de la CCI Alsace Eurométropole\, Geoffrey Urwald de la CCI Grand Nancy Métropole Meurthe-et-Moselle\, Thierry Sedille et Mounir Elhamzaoui\, Coach Google.
URL:https://www.bizzandbuzz.alsace/event/renforcer-la-visibilite-de-son-site-web-grace-au-seo-niveau-2/
LOCATION:WEBINAIRE
ATTACH;FMTTYPE=image/jpeg:https://www.bizzandbuzz.alsace/wp-content/uploads/2026/03/seo_800x500-AdobeStock_428625663.jpg
END:VEVENT
BEGIN:VEVENT
DTSTART;TZID=Europe/Paris:20260317T110000
DTEND;TZID=Europe/Paris:20260317T120000
DTSTAMP:20260421T142318
CREATED:20260304T161112Z
LAST-MODIFIED:20260304T161112Z
UID:2842-1773745200-1773748800@www.bizzandbuzz.alsace
SUMMARY:Digital CleanUp Day
DESCRIPTION:🌱 45 minutes pour réduire l’empreinte numérique de votre entreprise et adopter les bons réflexes \n\n\n\n\n\n\n\nParticipez au Digital CleanUp Day !\n  \nLe mardi 17 mars à 11h\, la Ville de Mulhouse et la CCI Alsace Eurométropole vous invitent à un webinaire dédié à la réduction de l’empreinte numérique des entreprises. \n  \nAu programme\n\nRéemploi & inclusion : Donnez une seconde vie à vos équipements et soutenez l’inclusion numérique locale avec Lucia BERDEIL (Ville de Mulhouse) et Lounis SADI (Emmaüs Connect).\nIA & impact environnemental : Comprenez l’impact réel de l’intelligence artificielle et adoptez les bons réflexes avec Laura GAYMARD (Ville de Mulhouse).\nBonnes pratiques du quotidien : Rangez vos fichiers\, triez vos e-mails\, évitez les doublons… Des gestes simples présentés par Michel FAGOT (CCI Alsace Eurométropole) qui font la différence !\n\n  \nEn 45 minutes\, repartez avec des idées concrètes pour limiter le gaspillage numérique\, gagner en efficacité et adopter une démarche responsable\, bénéfique pour la planète et votre organisation. \n  \nLe webinaire sera animé par Lucia Berdeil et Laura Gaymard de la Ville de Mulhouse\, Michel Fagot de la CCI Alsace Eurométropole et Lounis Sadi d’Emmaüs Connect. \n  \n👉 Inscrivez-vous et rejoignez-nous pour un numérique plus responsable !
URL:https://www.bizzandbuzz.alsace/event/digital-cleanup-day/
LOCATION:WEBINAIRE
ATTACH;FMTTYPE=image/jpeg:https://www.bizzandbuzz.alsace/wp-content/uploads/2026/03/Clean-up-day-800x500-1.jpg
END:VEVENT
BEGIN:VEVENT
DTSTART;TZID=Europe/Paris:20260320T124500
DTEND;TZID=Europe/Paris:20260320T140000
DTSTAMP:20260421T142318
CREATED:20260304T162136Z
LAST-MODIFIED:20260304T162136Z
UID:2851-1774010700-1774015200@www.bizzandbuzz.alsace
SUMMARY:Cyberattaques et cybercriminalité : comprendre les acteurs et leurs objectifs
DESCRIPTION:Programme  \nSébastien Dupent vous propose un panorama des cyberattaques actuelles. Il présente les principaux acteurs de la cybercriminalité\, leurs méthodes et les motivations qui les animent. \nÀ travers des techniques courantes (phishing\, ransomware\, DDoS\, deepfake)\, il montre comment les attaquants adaptent leurs stratégies aux cibles et aux usages\, afin de mieux comprendre les menaces en cybersécurité. \n  \nIntervenant \nSébastien Dupent \nProfesseur agrégé \, Économie et gestion option système d’information spécialité Cybersécurité\nAcadémie de Strasbourg\nIngénieur de recherche et chef de projet informatique au CEIFAC\nMembre de la réserve citoyenne de la gendarmerie. \nInscription \n\nEn présentiel dans la salle de formation de l’Atrium (rez-de-chaussée) – 16 rue René Descartes\, Strasbourg – Inscrivez-vous à la séance 12h45\nEn distanciel  – Inscrivez-vous à la séance de 13h pour obtenir le lien ce connexion\n\n 
URL:https://www.bizzandbuzz.alsace/event/cyberattaques-et-cybercriminalite-comprendre-les-acteurs-et-leurs-objectifs/
LOCATION:WEBINAIRE
END:VEVENT
BEGIN:VEVENT
DTSTART;TZID=Europe/Paris:20260320T140000
DTEND;TZID=Europe/Paris:20260320T153000
DTSTAMP:20260421T142318
CREATED:20260304T161313Z
LAST-MODIFIED:20260304T161313Z
UID:2845-1774015200-1774020600@www.bizzandbuzz.alsace
SUMMARY:Optimisez votre contrôle qualité avec l'IA
DESCRIPTION:Mais concrètement\, comment identifier les bons cas d’usage et passer à l’action ? \n\n\n\n\n\n\n\nEt si l’IA transformait votre contrôle qualité en levier de performance industrielle ?\nDétection des défauts\, fiabilité des pièces\, optimisation des processus de production… \n👉 Le contrôle qualité est indispensable\, mais il mobilise du temps et des ressources. \nL’intelligence artificielle permet aujourd’hui d’automatiser\, fiabiliser et optimiser ces étapes clés\, de la pièce unitaire jusqu’au processus de production complet. \nMais concrètement\, comment identifier les bons cas d’usage et passer à l’action ? \n  \nCe webinaire vous permettra de : \n  \n🔷Découvrir des applications concrètes de l’IA pour optimiser le contrôle qualité\, de la pièce jusqu’au processus de production complet \n🔷 Identifier des cas d’usage pour votre entreprise \n🔷 Bénéficier de retours d’expérience \n🔷 Echanger sur les défis et opportunités liés à l’IA dans l’industrie \n🔷 Connaître les différents parcours d’accompagnement associés \n  \n\n\n\n\n\n\n\n\n\n\n\nAu programme :\n\nL’IA au service du contrôle qualité : fondamentaux et enjeux pour l’industrie\n@Marc Platini – @Grand Est Développement\n« Jumeaux numériques » : optimiser le contrôle qualité et les processus industriels\n@William Derigent – @Université de Lorraine\nIA & Contrôle Vision : retours d’expérience et cas d’usage en détection de défauts\n@Romain Baud – @Aprex\nPrésentation du programme EDIH Grand Est\n@Laurence Thomann – @CCI Grand Est\n\n  \n🤝 Un webinaire organisé par la CCI Grand Est\, en partenariat avec Grand Est Développement – l’Agence régionale des transformations\, EDIH GE\, la Région Grand Est et le CEA
URL:https://www.bizzandbuzz.alsace/event/optimisez-votre-controle-qualite-avec-lia/
LOCATION:WEBINAIRE
ATTACH;FMTTYPE=image/jpeg:https://www.bizzandbuzz.alsace/wp-content/uploads/2026/03/edih-20032026.jpg
END:VEVENT
BEGIN:VEVENT
DTSTART;TZID=Europe/Paris:20260331T110000
DTEND;TZID=Europe/Paris:20260331T120000
DTSTAMP:20260421T142318
CREATED:20260304T161607Z
LAST-MODIFIED:20260304T161607Z
UID:2848-1774954800-1774958400@www.bizzandbuzz.alsace
SUMMARY:Signature électronique et marchés publics\, un webinaire pour tout savoir en 1h !
DESCRIPTION:Passez de la théorie à la pratique avec des outils concrets ! \nTout savoir sur la signature électronique\n\nVous êtes entrepreneur\, artisan ou responsable d’entreprise et vous répondez à des marchés publics ? La signature électronique vous semble floue ou complexe ? On vous explique tout\, simplement et concrètement !\nRendez-vous le mardi 31 mars 2026 à 11h pour un webinaire 100% pratique\, accessible à tous\, que vous soyez novice ou expert. \n\nCe webinaire animé par Alsace Marchés Publics est organisé en partenariat avec la CCI Alsace Eurométropole et la Chambre de Métiers d’Alsace. \n\nAu programme :\n\nLes bases. Qu’est-ce que la signature électronique ? Quels enjeux dans les marchés publics ?\nLes solutions. Quels outils choisir pour signer en toute sécurité et simplicité ?\nÉchanges et retours d’expérience. Posez vos questions et profitez des retours d’expérience de nos experts.
URL:https://www.bizzandbuzz.alsace/event/signature-electronique-et-marches-publics-un-webinaire-pour-tout-savoir-en-1h/
LOCATION:WEBINAIRE
ATTACH;FMTTYPE=image/jpeg:https://www.bizzandbuzz.alsace/wp-content/uploads/2026/03/signature-electronique-800x500-1.jpg
END:VEVENT
BEGIN:VEVENT
DTSTART;TZID=Europe/Paris:20260331T143000
DTEND;TZID=Europe/Paris:20260331T160000
DTSTAMP:20260421T142318
CREATED:20260326T142729Z
LAST-MODIFIED:20260326T142844Z
UID:2909-1774967400-1774972800@www.bizzandbuzz.alsace
SUMMARY:Comment protéger votre entreprise face aux nouvelles menaces ?
DESCRIPTION:Webinaire : comprendre les nouvelles menaces et agir concrètement avec deux experts de la cybersécurité \n\n\n\n\n\n\n\nEn 2026\, la cybersécurité n’est plus une simple option technique\, mais une condition vitale pour la survie et la pérennité de nos organisations. Face à une menace qui se professionnalise et à l’explosion de l’Intelligence Artificielle\, la question n’est plus de savoir si vous serez visés\, mais quand et comment vous y ferez face. \nPour vous donner des clés concrètes et passer de la prise de conscience à l’action\, nous avons le plaisir de vous inviter à une table ronde exclusive en format webinaire. \nNous aurons l’honneur d’accueillir deux experts de premier plan pour éclairer ces enjeux : \n\n– Laurent Verdier\, Directeur de la sensibilisation chez Cybermalveillance.gouv.fr. Il dressera un panorama de la menace actuelle et expliquera comment l’IA change la donne.\n– Vincent Durfort\, Directeur Technique du Groupe CONTY et porteur du label ExpertCyber. Il partagera son expérience terrain et vous expliquera comment choisir un partenaire de confiance.\n\nAu programme de nos échanges : \n\n– État des lieux 2025 : panorama des menaces\, risques et opportunités liés à l’IA\n– Ressources et diagnostics : par où commencer ? Comment identifier vos actifs critiques ?\n– Le passage à la phase technique : tout savoir sur le label ExpertCyber\, un gage de compétence et de sérénité\n– Présentation du service « Sécurisation » de Cybermalveillance\n\nCe webinaire se clôturera par une session de questions-réponses. Ne laissez pas le risque cyber devenir le premier frein à votre activité. Rejoignez-nous le 31 mars pour transformer votre vulnérabilité en résilience.
URL:https://www.bizzandbuzz.alsace/event/comment-proteger-votre-entreprise-face-aux-nouvelles-menaces/
LOCATION:WEBINAIRE
CATEGORIES:webinaire
ATTACH;FMTTYPE=image/jpeg:https://www.bizzandbuzz.alsace/wp-content/uploads/2026/03/Webinaire-Cyber.jpg
END:VEVENT
END:VCALENDAR