BEGIN:VCALENDAR
VERSION:2.0
PRODID:-//Bizz and Buzz - ECPv6.15.18//NONSGML v1.0//EN
CALSCALE:GREGORIAN
METHOD:PUBLISH
X-ORIGINAL-URL:https://www.bizzandbuzz.alsace
X-WR-CALDESC:Évènements pour Bizz and Buzz
REFRESH-INTERVAL;VALUE=DURATION:PT1H
X-Robots-Tag:noindex
X-PUBLISHED-TTL:PT1H
BEGIN:VTIMEZONE
TZID:Europe/Paris
BEGIN:DAYLIGHT
TZOFFSETFROM:+0100
TZOFFSETTO:+0200
TZNAME:CEST
DTSTART:20230326T010000
END:DAYLIGHT
BEGIN:STANDARD
TZOFFSETFROM:+0200
TZOFFSETTO:+0100
TZNAME:CET
DTSTART:20231029T010000
END:STANDARD
BEGIN:DAYLIGHT
TZOFFSETFROM:+0100
TZOFFSETTO:+0200
TZNAME:CEST
DTSTART:20240331T010000
END:DAYLIGHT
BEGIN:STANDARD
TZOFFSETFROM:+0200
TZOFFSETTO:+0100
TZNAME:CET
DTSTART:20241027T010000
END:STANDARD
BEGIN:DAYLIGHT
TZOFFSETFROM:+0100
TZOFFSETTO:+0200
TZNAME:CEST
DTSTART:20250330T010000
END:DAYLIGHT
BEGIN:STANDARD
TZOFFSETFROM:+0200
TZOFFSETTO:+0100
TZNAME:CET
DTSTART:20251026T010000
END:STANDARD
END:VTIMEZONE
BEGIN:VEVENT
DTSTART;TZID=Europe/Paris:20241003T090000
DTEND;TZID=Europe/Paris:20241003T160000
DTSTAMP:20260419T144610
CREATED:20240603T155605Z
LAST-MODIFIED:20240618T102909Z
UID:1217-1727946000-1727971200@www.bizzandbuzz.alsace
SUMMARY:Rencontres du Logiciel Métier #2
DESCRIPTION:Pour la 2e année consécutive\, 2le et ses partenaires – les sociétés mulhousiennes du numérique Asterium\, Impact Positif\, Jnesis et Kiwi Backup – organisent les Rencontres du Logiciel Métier autour des problématiques digitales des responsables métiers de tous secteurs d’activité. \n  \n\nAu programme\, nous décortiquerons une thématique très en vogue\, mais dont les impacts sur la vie des entreprises au quotidien peuvent rester flous : « Intelligences humaines x artificielles pour des outils métier performants »\, ou comment apprivoiser l’IA pour en faire un levier de croissance. \n\n\n  \n\n\nNous aurons le plaisir de présenter 4 speakers sur le sujet dans la matinée : Sébastien Heitzmann de 2le\, Pierre Fritsch d’Impact Positif\, Laurent Witt de Jnesis et Bernard Deffarges de LLAAMA\, spécialiste mulhousien de l’IA. \n\n\n  \n\n\nL’après-midi sera consacrée à des « rendez-vous experts » permettant aux responsables métiers d’aborder les sujets digitaux qui les préoccupent avec des interlocuteurs spécialisés dans le domaine du numérique : IA bien évidemment\, mais également développement logiciel\, sites internet\, référencement\, …
URL:https://www.bizzandbuzz.alsace/event/rencontres-du-logiciel-metier-2/
LOCATION:SIM Mulhouse\, Société Industrielle de Mulhouse\, Mulhouse\, France
ATTACH;FMTTYPE=image/jpeg:https://www.bizzandbuzz.alsace/wp-content/uploads/2024/06/image002.jpg
END:VEVENT
BEGIN:VEVENT
DTSTART;TZID=Europe/Paris:20241015T000000
DTEND;TZID=Europe/Paris:20241017T235959
DTSTAMP:20260419T144610
CREATED:20240416T082103Z
LAST-MODIFIED:20240507T143526Z
UID:546-1728950400-1729209599@www.bizzandbuzz.alsace
SUMMARY:Bizz&Buzz 2024 - du 15 au 17 octobre
DESCRIPTION:Le festival se déroule sur toute l’Alsace du 15 au 17 octobre 2024\, et commence par Mulhouse
URL:https://www.bizzandbuzz.alsace/event/bizz-and-buzz-2024/
LOCATION:Strasbourg\, Mulhouse\, Haguenau\, Bergheim\, France
ATTACH;FMTTYPE=image/png:https://www.bizzandbuzz.alsace/wp-content/uploads/2024/03/cropped-MicrosoftTeams-image.png
END:VEVENT
BEGIN:VEVENT
DTSTART;TZID=Europe/Paris:20241015T180000
DTEND;TZID=Europe/Paris:20241015T210000
DTSTAMP:20260419T144610
CREATED:20240613T160510Z
LAST-MODIFIED:20240827T095327Z
UID:1257-1729015200-1729026000@www.bizzandbuzz.alsace
SUMMARY:Bizz&Buzz - Risque Cyber : quelles menaces\, quelles solutions
DESCRIPTION:42 Mulhouse s’associe cette année avec la CCI Alsace Alsace Eurométropole et notre mécène le Crédit agricole Alsace Vosges pour vous proposer un Forum cyber de 18h à 21h. L’objectif est très concret. Il s’agit de vous donner les clés pour : \n1 – appréhender les menaces\, avec le témoignage de Hager\, du groupement hospitalier de Mulhouse Sud Alsace\, d’un gendarme expert en cybercriminalité et d’un expert du Crédit agricole en fraude financière. \n2 – implémenter des solutions pour prévenir ou réparer\, avec les présentations de nos entreprises mécènes spécialisées en protection des données et cybersécurité : Athéo\, Systancia et Agora Calycé. \nLe Forum sera suivi d’un cocktail qui vous permettra de dialoguer avec les experts et de préparer votre stratégie de défense contre les cybermenaces. \nEntrée gratuite sur inscription. Places limitées aux 80 premiers inscrits. \nInscriptions à partir du 9 septembre sur le site du festival qui sera communiqué ici prochainement. \nPré-inscriptions dès maintenant via entreprises@42mulhouse.fr \n  \n \n 
URL:https://www.bizzandbuzz.alsace/event/bizzbuzz-risque-cyber-quelles-menaces-quelles-solutions/
LOCATION:Le VillageBy CA – KM0\, 30 rue François Spoerry\, MULHOUSE\, 68100\, France
ATTACH;FMTTYPE=image/png:https://www.bizzandbuzz.alsace/wp-content/uploads/2024/03/cropped-MicrosoftTeams-image.png
END:VEVENT
END:VCALENDAR