BEGIN:VCALENDAR
VERSION:2.0
PRODID:-//Bizz and Buzz - ECPv6.15.18//NONSGML v1.0//EN
CALSCALE:GREGORIAN
METHOD:PUBLISH
X-WR-CALNAME:Bizz and Buzz
X-ORIGINAL-URL:https://www.bizzandbuzz.alsace
X-WR-CALDESC:Évènements pour Bizz and Buzz
REFRESH-INTERVAL;VALUE=DURATION:PT1H
X-Robots-Tag:noindex
X-PUBLISHED-TTL:PT1H
BEGIN:VTIMEZONE
TZID:Europe/Paris
BEGIN:DAYLIGHT
TZOFFSETFROM:+0100
TZOFFSETTO:+0200
TZNAME:CEST
DTSTART:20240331T010000
END:DAYLIGHT
BEGIN:STANDARD
TZOFFSETFROM:+0200
TZOFFSETTO:+0100
TZNAME:CET
DTSTART:20241027T010000
END:STANDARD
BEGIN:DAYLIGHT
TZOFFSETFROM:+0100
TZOFFSETTO:+0200
TZNAME:CEST
DTSTART:20250330T010000
END:DAYLIGHT
BEGIN:STANDARD
TZOFFSETFROM:+0200
TZOFFSETTO:+0100
TZNAME:CET
DTSTART:20251026T010000
END:STANDARD
BEGIN:DAYLIGHT
TZOFFSETFROM:+0100
TZOFFSETTO:+0200
TZNAME:CEST
DTSTART:20260329T010000
END:DAYLIGHT
BEGIN:STANDARD
TZOFFSETFROM:+0200
TZOFFSETTO:+0100
TZNAME:CET
DTSTART:20261025T010000
END:STANDARD
END:VTIMEZONE
BEGIN:VEVENT
DTSTART;TZID=Europe/Paris:20251009T110000
DTEND;TZID=Europe/Paris:20251009T120000
DTSTAMP:20260421T212630
CREATED:20250926T124008Z
LAST-MODIFIED:20250926T124231Z
UID:2345-1760007600-1760011200@www.bizzandbuzz.alsace
SUMMARY:Pourquoi un CRM est-il vraiment un moteur de croissance ?
DESCRIPTION:Donnez du sens à votre CRM !\nUn CRM n’est pas qu’un simple carnet d’adresses digital : bien utilisé\, c’est un véritable levier stratégique pour vendre mieux\, fidéliser vos clients et piloter vos performances commerciales. \nMais attention : ne vous lancez pas dans un projet CRM sans vision claire ou sans cadrage métier. Vous finiriez par gaspiller votre temps\, votre énergie et votre budget pour un outil coûteux et inutile. \nAu programme : \n\nComment un CRM peut réellement booster votre activité au quotidien\nLes erreurs les plus fréquentes à éviter pour ne pas perdre argent et motivation\nComment choisir la bonne solution parmi plus de 150 outils disponibles\nEt surtout : combien investir pour que ce projet devienne rentable\n\nChaque étape est abordée avec des exemples concrets\, des grilles d’aide au choix et des checklists prêtes à l’emploi. Vous repartirez avec une méthode claire et opérationnelle. \n  \nJulien LERCH\, expert en transformation digitale depuis plus de 20 ans\, sera votre guide. Il a accompagné des dizaines d’équipes et d’organisations dans leurs projets\, avec une conviction forte : un outil digital n’a de valeur que s’il est pensé pour et avec l’Humain.
URL:https://www.bizzandbuzz.alsace/event/pourquoi-un-crm-est-il-vraiment-un-moteur-de-croissance/
LOCATION:Distanciel
ATTACH;FMTTYPE=image/png:https://www.bizzandbuzz.alsace/wp-content/uploads/2025/09/Capture-decran-2025-09-26-142852.png
END:VEVENT
END:VCALENDAR