BEGIN:VCALENDAR
VERSION:2.0
PRODID:-//Bizz and Buzz - ECPv6.15.18//NONSGML v1.0//EN
CALSCALE:GREGORIAN
METHOD:PUBLISH
X-ORIGINAL-URL:https://www.bizzandbuzz.alsace
X-WR-CALDESC:Évènements pour Bizz and Buzz
REFRESH-INTERVAL;VALUE=DURATION:PT1H
X-Robots-Tag:noindex
X-PUBLISHED-TTL:PT1H
BEGIN:VTIMEZONE
TZID:Europe/Paris
BEGIN:DAYLIGHT
TZOFFSETFROM:+0100
TZOFFSETTO:+0200
TZNAME:CEST
DTSTART:20250330T010000
END:DAYLIGHT
BEGIN:STANDARD
TZOFFSETFROM:+0200
TZOFFSETTO:+0100
TZNAME:CET
DTSTART:20251026T010000
END:STANDARD
BEGIN:DAYLIGHT
TZOFFSETFROM:+0100
TZOFFSETTO:+0200
TZNAME:CEST
DTSTART:20260329T010000
END:DAYLIGHT
BEGIN:STANDARD
TZOFFSETFROM:+0200
TZOFFSETTO:+0100
TZNAME:CET
DTSTART:20261025T010000
END:STANDARD
BEGIN:DAYLIGHT
TZOFFSETFROM:+0100
TZOFFSETTO:+0200
TZNAME:CEST
DTSTART:20270328T010000
END:DAYLIGHT
BEGIN:STANDARD
TZOFFSETFROM:+0200
TZOFFSETTO:+0100
TZNAME:CET
DTSTART:20271031T010000
END:STANDARD
END:VTIMEZONE
BEGIN:VEVENT
DTSTART;TZID=Europe/Paris:20260317T110000
DTEND;TZID=Europe/Paris:20260317T120000
DTSTAMP:20260421T160052
CREATED:20260304T161112Z
LAST-MODIFIED:20260304T161112Z
UID:2842-1773745200-1773748800@www.bizzandbuzz.alsace
SUMMARY:Digital CleanUp Day
DESCRIPTION:🌱 45 minutes pour réduire l’empreinte numérique de votre entreprise et adopter les bons réflexes \n\n\n\n\n\n\n\nParticipez au Digital CleanUp Day !\n  \nLe mardi 17 mars à 11h\, la Ville de Mulhouse et la CCI Alsace Eurométropole vous invitent à un webinaire dédié à la réduction de l’empreinte numérique des entreprises. \n  \nAu programme\n\nRéemploi & inclusion : Donnez une seconde vie à vos équipements et soutenez l’inclusion numérique locale avec Lucia BERDEIL (Ville de Mulhouse) et Lounis SADI (Emmaüs Connect).\nIA & impact environnemental : Comprenez l’impact réel de l’intelligence artificielle et adoptez les bons réflexes avec Laura GAYMARD (Ville de Mulhouse).\nBonnes pratiques du quotidien : Rangez vos fichiers\, triez vos e-mails\, évitez les doublons… Des gestes simples présentés par Michel FAGOT (CCI Alsace Eurométropole) qui font la différence !\n\n  \nEn 45 minutes\, repartez avec des idées concrètes pour limiter le gaspillage numérique\, gagner en efficacité et adopter une démarche responsable\, bénéfique pour la planète et votre organisation. \n  \nLe webinaire sera animé par Lucia Berdeil et Laura Gaymard de la Ville de Mulhouse\, Michel Fagot de la CCI Alsace Eurométropole et Lounis Sadi d’Emmaüs Connect. \n  \n👉 Inscrivez-vous et rejoignez-nous pour un numérique plus responsable !
URL:https://www.bizzandbuzz.alsace/event/digital-cleanup-day/
LOCATION:WEBINAIRE
ATTACH;FMTTYPE=image/jpeg:https://www.bizzandbuzz.alsace/wp-content/uploads/2026/03/Clean-up-day-800x500-1.jpg
END:VEVENT
END:VCALENDAR