BEGIN:VCALENDAR
VERSION:2.0
PRODID:-//Bizz and Buzz - ECPv6.15.18//NONSGML v1.0//EN
CALSCALE:GREGORIAN
METHOD:PUBLISH
X-WR-CALNAME:Bizz and Buzz
X-ORIGINAL-URL:https://www.bizzandbuzz.alsace
X-WR-CALDESC:Évènements pour Bizz and Buzz
REFRESH-INTERVAL;VALUE=DURATION:PT1H
X-Robots-Tag:noindex
X-PUBLISHED-TTL:PT1H
BEGIN:VTIMEZONE
TZID:Europe/Paris
BEGIN:DAYLIGHT
TZOFFSETFROM:+0100
TZOFFSETTO:+0200
TZNAME:CEST
DTSTART:20250330T010000
END:DAYLIGHT
BEGIN:STANDARD
TZOFFSETFROM:+0200
TZOFFSETTO:+0100
TZNAME:CET
DTSTART:20251026T010000
END:STANDARD
BEGIN:DAYLIGHT
TZOFFSETFROM:+0100
TZOFFSETTO:+0200
TZNAME:CEST
DTSTART:20260329T010000
END:DAYLIGHT
BEGIN:STANDARD
TZOFFSETFROM:+0200
TZOFFSETTO:+0100
TZNAME:CET
DTSTART:20261025T010000
END:STANDARD
BEGIN:DAYLIGHT
TZOFFSETFROM:+0100
TZOFFSETTO:+0200
TZNAME:CEST
DTSTART:20270328T010000
END:DAYLIGHT
BEGIN:STANDARD
TZOFFSETFROM:+0200
TZOFFSETTO:+0100
TZNAME:CET
DTSTART:20271031T010000
END:STANDARD
END:VTIMEZONE
BEGIN:VEVENT
DTSTART;TZID=Europe/Paris:20260122T110000
DTEND;TZID=Europe/Paris:20260122T120000
DTSTAMP:20260421T185142
CREATED:20260121T104441Z
LAST-MODIFIED:20260121T104441Z
UID:2709-1769079600-1769083200@www.bizzandbuzz.alsace
SUMMARY:Comment réussir l’intégration de l’IA dans votre entreprise en 2026 ?
DESCRIPTION:Une approche claire et pragmatique pour passer de l’expérimentation à l’intégration. \n\n\n\n\n\n\n\nIA et TPE-PME : construire aujourd’hui les usages de demain\n  \nL’intelligence artificielle s’impose progressivement dans les outils et les usages professionnels. Mais comment l’intégrer concrètement et efficacement dans une TPE ou une PME\, au-delà de simples tests ou d’outils “gadget” ? \n  \nQuelles méthodes et quels usages privilégier pour assurer la réussite ?  \n  \nCe webinaire s’adresse aux dirigeants et collaborateurs d’entreprises alsaciennes\, tous secteurs confondus\, qui souhaitent comprendre comment l’IA peut s’inscrire durablement dans leur organisation\, leurs métiers et leurs processus. \n  \nAu programme :\n✔ une lecture claire des enjeux de l’IA pour l’entreprise\,\n✔ des cas d’usage concrets et transverses\,\n✔ les tendances IA 2026 à anticiper\,\n✔ et surtout une méthode pragmatique pour passer de l’expérimentation à une intégration réussie. \n  \nUn webinaire de sensibilisation animé par Karim DJAFOUR \, conseiller numérique à la CCI\, pour repartir avec une vision structurée et des premières pistes d’action adaptées à votre réalité terrain.
URL:https://www.bizzandbuzz.alsace/event/comment-reussir-lintegration-de-lia-dans-votre-entreprise-en-2026/
LOCATION:WEBINAIRE
END:VEVENT
END:VCALENDAR